BEGIN:VCALENDAR
VERSION:2.0
PRODID:-//United Playaz - ECPv6.15.20//NONSGML v1.0//EN
CALSCALE:GREGORIAN
METHOD:PUBLISH
X-WR-CALNAME:United Playaz
X-ORIGINAL-URL:https://unitedplayaz.org
X-WR-CALDESC:Events for United Playaz
REFRESH-INTERVAL;VALUE=DURATION:PT1H
X-Robots-Tag:noindex
X-PUBLISHED-TTL:PT1H
BEGIN:VTIMEZONE
TZID:America/Los_Angeles
BEGIN:DAYLIGHT
TZOFFSETFROM:-0800
TZOFFSETTO:-0700
TZNAME:PDT
DTSTART:20220313T100000
END:DAYLIGHT
BEGIN:STANDARD
TZOFFSETFROM:-0700
TZOFFSETTO:-0800
TZNAME:PST
DTSTART:20221106T090000
END:STANDARD
BEGIN:DAYLIGHT
TZOFFSETFROM:-0800
TZOFFSETTO:-0700
TZNAME:PDT
DTSTART:20230312T100000
END:DAYLIGHT
BEGIN:STANDARD
TZOFFSETFROM:-0700
TZOFFSETTO:-0800
TZNAME:PST
DTSTART:20231105T090000
END:STANDARD
BEGIN:DAYLIGHT
TZOFFSETFROM:-0800
TZOFFSETTO:-0700
TZNAME:PDT
DTSTART:20240310T100000
END:DAYLIGHT
BEGIN:STANDARD
TZOFFSETFROM:-0700
TZOFFSETTO:-0800
TZNAME:PST
DTSTART:20241103T090000
END:STANDARD
BEGIN:DAYLIGHT
TZOFFSETFROM:-0800
TZOFFSETTO:-0700
TZNAME:PDT
DTSTART:20250309T100000
END:DAYLIGHT
BEGIN:STANDARD
TZOFFSETFROM:-0700
TZOFFSETTO:-0800
TZNAME:PST
DTSTART:20251102T090000
END:STANDARD
BEGIN:DAYLIGHT
TZOFFSETFROM:-0800
TZOFFSETTO:-0700
TZNAME:PDT
DTSTART:20260308T100000
END:DAYLIGHT
BEGIN:STANDARD
TZOFFSETFROM:-0700
TZOFFSETTO:-0800
TZNAME:PST
DTSTART:20261101T090000
END:STANDARD
END:VTIMEZONE
BEGIN:VEVENT
DTSTART;TZID=America/Los_Angeles:20251213T080000
DTEND;TZID=America/Los_Angeles:20251213T120000
DTSTAMP:20260424T034016
CREATED:20251120T214422Z
LAST-MODIFIED:20251120T214627Z
UID:1171-1765612800-1765627200@unitedplayaz.org
SUMMARY:Gun Buy-back
DESCRIPTION:Please join us for our annual gun buyback event\, taking place Dec. 13 from 8:00am – 12:00 pm at the United Playaz clubhouse at 1038 Howard St. Help end the pollution and be the solution to gun violence. No questions asked.
URL:https://unitedplayaz.org/event/gun-buy-back-2025/
LOCATION:United Playaz Clubhouse\, 1038 Howard Street\, San Francisco\, CA\, 94103\, United States
ATTACH;FMTTYPE=image/jpeg:https://unitedplayaz.org/wp-content/uploads/2025/11/united-playaz-gun-buyback-2025.jpg
END:VEVENT
BEGIN:VEVENT
DTSTART;TZID=America/Los_Angeles:20231209T080000
DTEND;TZID=America/Los_Angeles:20231209T120000
DTSTAMP:20260424T034016
CREATED:20231128T210123Z
LAST-MODIFIED:20231128T211030Z
UID:1102-1702108800-1702123200@unitedplayaz.org
SUMMARY:Gun-Buyback
DESCRIPTION:
URL:https://unitedplayaz.org/event/gun-buyback-dec-9-2023/
LOCATION:United Playaz Clubhouse\, 1038 Howard Street\, San Francisco\, CA\, 94103\, United States
ATTACH;FMTTYPE=image/jpeg:https://unitedplayaz.org/wp-content/uploads/2023/11/gun-buyback-united-playaz-dec-9-2023.jpg
END:VEVENT
END:VCALENDAR